BEGIN:VCALENDAR
VERSION:2.0
PRODID:-//CPTS du Voironnais - ECPv6.15.20//NONSGML v1.0//EN
CALSCALE:GREGORIAN
METHOD:PUBLISH
X-WR-CALNAME:CPTS du Voironnais
X-ORIGINAL-URL:https://cptsduvoironnais.com
X-WR-CALDESC:Évènements pour CPTS du Voironnais
REFRESH-INTERVAL;VALUE=DURATION:PT1H
X-Robots-Tag:noindex
X-PUBLISHED-TTL:PT1H
BEGIN:VTIMEZONE
TZID:Europe/Paris
BEGIN:DAYLIGHT
TZOFFSETFROM:+0100
TZOFFSETTO:+0200
TZNAME:CEST
DTSTART:20250330T010000
END:DAYLIGHT
BEGIN:STANDARD
TZOFFSETFROM:+0200
TZOFFSETTO:+0100
TZNAME:CET
DTSTART:20251026T010000
END:STANDARD
BEGIN:DAYLIGHT
TZOFFSETFROM:+0100
TZOFFSETTO:+0200
TZNAME:CEST
DTSTART:20260329T010000
END:DAYLIGHT
BEGIN:STANDARD
TZOFFSETFROM:+0200
TZOFFSETTO:+0100
TZNAME:CET
DTSTART:20261025T010000
END:STANDARD
BEGIN:DAYLIGHT
TZOFFSETFROM:+0100
TZOFFSETTO:+0200
TZNAME:CEST
DTSTART:20270328T010000
END:DAYLIGHT
BEGIN:STANDARD
TZOFFSETFROM:+0200
TZOFFSETTO:+0100
TZNAME:CET
DTSTART:20271031T010000
END:STANDARD
END:VTIMEZONE
BEGIN:VEVENT
DTSTART;TZID=Europe/Paris:20260505T183000
DTEND;TZID=Europe/Paris:20260505T203000
DTSTAMP:20260421T184901
CREATED:20260421T085255Z
LAST-MODIFIED:20260421T085255Z
UID:5757-1778005800-1778013000@cptsduvoironnais.com
SUMMARY:Groupe de travail Troubles du NeuroDéveloppement
DESCRIPTION:Tous les groupes de travail sont sur inscription\nPour rejoindre un groupe de travail : contact@cptsduvoironnais.com
URL:https://cptsduvoironnais.com/index.php/evenement/groupe-de-travail-troubles-du-neurodeveloppement/
LOCATION:CPTS du Voironnais\, Campus La Brunerie - Inolab - 180 boulevard de Charavines\, Voiron\, 38500\, France
CATEGORIES:CPTS du Voironnais,Groupe de travail,Parcours
ATTACH;FMTTYPE=image/png:https://cptsduvoironnais.com/wp-content/uploads/2026/01/7.png
ORGANIZER;CN="CPTS du Voironnais":MAILTO:contact@cptsduvoironnais.com
END:VEVENT
END:VCALENDAR