BEGIN:VCALENDAR
VERSION:2.0
PRODID:-//CPTS du Voironnais - ECPv6.15.20//NONSGML v1.0//EN
CALSCALE:GREGORIAN
METHOD:PUBLISH
X-WR-CALNAME:CPTS du Voironnais
X-ORIGINAL-URL:https://cptsduvoironnais.com
X-WR-CALDESC:Évènements pour CPTS du Voironnais
REFRESH-INTERVAL;VALUE=DURATION:PT1H
X-Robots-Tag:noindex
X-PUBLISHED-TTL:PT1H
BEGIN:VTIMEZONE
TZID:Europe/Paris
BEGIN:DAYLIGHT
TZOFFSETFROM:+0100
TZOFFSETTO:+0200
TZNAME:CEST
DTSTART:20250330T010000
END:DAYLIGHT
BEGIN:STANDARD
TZOFFSETFROM:+0200
TZOFFSETTO:+0100
TZNAME:CET
DTSTART:20251026T010000
END:STANDARD
BEGIN:DAYLIGHT
TZOFFSETFROM:+0100
TZOFFSETTO:+0200
TZNAME:CEST
DTSTART:20260329T010000
END:DAYLIGHT
BEGIN:STANDARD
TZOFFSETFROM:+0200
TZOFFSETTO:+0100
TZNAME:CET
DTSTART:20261025T010000
END:STANDARD
BEGIN:DAYLIGHT
TZOFFSETFROM:+0100
TZOFFSETTO:+0200
TZNAME:CEST
DTSTART:20270328T010000
END:DAYLIGHT
BEGIN:STANDARD
TZOFFSETFROM:+0200
TZOFFSETTO:+0100
TZNAME:CET
DTSTART:20271031T010000
END:STANDARD
END:VTIMEZONE
BEGIN:VEVENT
DTSTART;TZID=Europe/Paris:20260422T183000
DTEND;TZID=Europe/Paris:20260429T200000
DTSTAMP:20260423T011339
CREATED:20260305T101204Z
LAST-MODIFIED:20260421T084937Z
UID:4978-1776882600-1777492800@cptsduvoironnais.com
SUMMARY:Groupe de travail ACCÈS DIRECT ORTHOPHONISTES
DESCRIPTION:Tous les groupes de travail sont sur inscription\nPour rejoindre un groupe de travail : contact@cptsduvoironnais.com
URL:https://cptsduvoironnais.com/index.php/evenement/groupe-de-travail-acces-direct-orthophonistes-2/
LOCATION:CPTS du Voironnais\, Campus La Brunerie - Inolab - 180 boulevard de Charavines\, Voiron\, 38500\, France
CATEGORIES:Accès aux soins,CPTS du Voironnais,Groupe de travail
ATTACH;FMTTYPE=image/png:https://cptsduvoironnais.com/wp-content/uploads/2026/01/3.png
ORGANIZER;CN="CPTS du Voironnais":MAILTO:contact@cptsduvoironnais.com
END:VEVENT
BEGIN:VEVENT
DTSTART;TZID=Europe/Paris:20260423T130000
DTEND;TZID=Europe/Paris:20260423T153000
DTSTAMP:20260423T011339
CREATED:20260206T125446Z
LAST-MODIFIED:20260317T152234Z
UID:4806-1776949200-1776958200@cptsduvoironnais.com
SUMMARY:Formation - actualisation des connaissances autour des dispositifs médicaux Midline et PICC line
DESCRIPTION:Actualisation des connaissances autour des dispositifs médicaux Midline et PICC line\n\nDans le cadre de sa mission Qualité et Pertinence des soins\, en collaboration avec l’hôpital de Voiron\, la CPTS du Voironnais vous propose une actualisation des connaissances autour des dispositifs centraux type Midline et PICC Line\nLa formation est prise en charge dans sa totalité\nPour les IDE et IDEL membres de la CPTS du Voironnais\nVoiron – le lieu sera précisé ultérieurement\nPour s’inscrire\, cliquez ici 
URL:https://cptsduvoironnais.com/index.php/evenement/formation-actualisation-des-connaissances-autour-des-dispositifs-medicaux-midline-et-picc-line/
CATEGORIES:CPTS du Voironnais,Qualité et pertinence des soins
ATTACH;FMTTYPE=application/pdf:https://cptsduvoironnais.com/wp-content/uploads/2026/02/Affiche-MidLine-et-PiccLine-2.pdf
ORGANIZER;CN="CPTS du Voironnais":MAILTO:contact@cptsduvoironnais.com
END:VEVENT
END:VCALENDAR